BEGIN:VCALENDAR
VERSION:2.0
PRODID:-//Plone.org//NONSGML plone.app.event//EN
X-WR-TIMEZONE:Brazil/East
BEGIN:VEVENT
SUMMARY:AUDIÊNCIA PÚBLICA PARA DISCUTIR A ABERTURA DO CURSO DE GRADUAÇ
 ÃO EM TERAPIA OCUPACIONAL DA UFG.
DTSTART;TZID=Brazil/East;VALUE=DATE-TIME:20221018T143000
DTEND;TZID=Brazil/East;VALUE=DATE-TIME:20221018T180000
DTSTAMP;VALUE=DATE-TIME:20260419T190437Z
UID:49383002affd414cb2738fc723f2fb55@www.goiania.go.leg.br
CONTACT:VEREADOR WILLIAN VELOSO
CREATED;VALUE=DATE-TIME:20220930T133219Z
LAST-MODIFIED;VALUE=DATE-TIME:20220930T133231Z
LOCATION:AUDITÓRIO CARLOS EURICO
URL:https://www.goiania.go.leg.br/sala-de-imprensa/eventos/audiencia-publi
 ca-para-discutir-a-abertura-do-curso-de-graduacao-em-terapia-ocupacional-d
 a-ufg
END:VEVENT
BEGIN:VTIMEZONE
TZID:Brazil/East
X-LIC-LOCATION:Brazil/East
BEGIN:DAYLIGHT
DTSTART;VALUE=DATE-TIME:20221016T010000
TZNAME:BRST
TZOFFSETFROM:-0300
TZOFFSETTO:-0200
END:DAYLIGHT
END:VTIMEZONE
END:VCALENDAR
