BEGIN:VCALENDAR
VERSION:2.0
PRODID:-//Plone.org//NONSGML plone.app.event//EN
X-WR-TIMEZONE:Brazil/East
BEGIN:VEVENT
SUMMARY:AUDIÊNCIA PÚBLICA PARA DISCUSSÃO SOBRE O PROJETO Nº 2017000/03
 76.
DTSTART;TZID=Brazil/East;VALUE=DATE-TIME:20180521T150000
DTEND;TZID=Brazil/East;VALUE=DATE-TIME:20180521T180000
DTSTAMP;VALUE=DATE-TIME:20260419T190613Z
UID:e201470c576244fe8dd8465da966a72b@www.goiania.go.leg.br
CONTACT:VEREADOR CARLIN CAFÉ
CREATED;VALUE=DATE-TIME:20180508T142913Z
LAST-MODIFIED;VALUE=DATE-TIME:20180508T142922Z
LOCATION:AUDITÓRIO CARLOS EURICO
URL:https://www.goiania.go.leg.br/sala-de-imprensa/eventos/audiencia-publi
 ca-para-discussao-sobre-o-projeto-no-2017000-0376
END:VEVENT
BEGIN:VTIMEZONE
TZID:Brazil/East
X-LIC-LOCATION:Brazil/East
BEGIN:STANDARD
DTSTART;VALUE=DATE-TIME:20180217T230000
TZNAME:BRT
TZOFFSETFROM:-0200
TZOFFSETTO:-0300
END:STANDARD
END:VTIMEZONE
END:VCALENDAR
