BEGIN:VCALENDAR
VERSION:2.0
PRODID:-//Plone.org//NONSGML plone.app.event//EN
X-WR-TIMEZONE:Brazil/East
BEGIN:VEVENT
SUMMARY:AUDIÊNCIA PÚBLICA PARA DISCUSSÃO DA REFORMA DE PREVIDÊNCIA SOC
 IAL
DTSTART;TZID=Brazil/East;VALUE=DATE-TIME:20190325T140000
DTEND;TZID=Brazil/East;VALUE=DATE-TIME:20190325T170000
DTSTAMP;VALUE=DATE-TIME:20260419T190312Z
UID:cfaa33d25877428dbe6373274834d85f@www.goiania.go.leg.br
CONTACT:VEREADOR FELISBERTO TAVARES 
CREATED;VALUE=DATE-TIME:20190313T134230Z
LAST-MODIFIED;VALUE=DATE-TIME:20190315T132225Z
LOCATION:AUDITÓRIO CARLOS EURICO
URL:https://www.goiania.go.leg.br/sala-de-imprensa/eventos/audiencia-publi
 ca-para-discussao-da-reforma-de-previdencia-social
END:VEVENT
BEGIN:VTIMEZONE
TZID:Brazil/East
X-LIC-LOCATION:Brazil/East
BEGIN:STANDARD
DTSTART;VALUE=DATE-TIME:20190216T230000
TZNAME:BRT
TZOFFSETFROM:-0200
TZOFFSETTO:-0300
END:STANDARD
END:VTIMEZONE
END:VCALENDAR
