BEGIN:VCALENDAR
VERSION:2.0
PRODID:-//Plone.org//NONSGML plone.app.event//EN
X-WR-TIMEZONE:Brazil/East
BEGIN:VEVENT
SUMMARY:AUDIÊNCIA PÚBLICA PARA DISCUSSÃO DA INCLUSÃO DA EDUCAÇÃO ALI
 MENTAR  NA GRADE CURRICULAR DO ENSINO BASILAR.              GRA
DTSTART;TZID=Brazil/East;VALUE=DATE-TIME:20180607T090000
DTEND;TZID=Brazil/East;VALUE=DATE-TIME:20180607T120000
DTSTAMP;VALUE=DATE-TIME:20260419T162158Z
UID:eedfa34b97ca4e14994251610f2b2679@www.goiania.go.leg.br
CONTACT:VEREADOR FELISBERTO TAVARES
CREATED;VALUE=DATE-TIME:20180504T101330Z
LAST-MODIFIED;VALUE=DATE-TIME:20180504T101420Z
LOCATION:AUDITÓRIO CARLOS EURICO
URL:https://www.goiania.go.leg.br/sala-de-imprensa/eventos/audiencia-publi
 ca-para-discussao-da-inclusao-da-educacao-alimentar-na-grade-curricular-do
 -ensino-basilar-gra
END:VEVENT
BEGIN:VTIMEZONE
TZID:Brazil/East
X-LIC-LOCATION:Brazil/East
BEGIN:STANDARD
DTSTART;VALUE=DATE-TIME:20180217T230000
TZNAME:BRT
TZOFFSETFROM:-0200
TZOFFSETTO:-0300
END:STANDARD
END:VTIMEZONE
END:VCALENDAR
