BEGIN:VCALENDAR
VERSION:2.0
PRODID:-//Plone.org//NONSGML plone.app.event//EN
X-WR-TIMEZONE:Brazil/East
BEGIN:VEVENT
SUMMARY:AUDIÊNCIA PÚBLICA PARA DEBATER SOBRE OS DESAFIOS NA INCLUSÃO DO
 S ALUNOS COM DEFICIÊNCIA NO SISTEMA ESCOLAR.
DTSTART;TZID=Brazil/East;VALUE=DATE-TIME:20190920T090000
DTEND;TZID=Brazil/East;VALUE=DATE-TIME:20190920T140000
DTSTAMP;VALUE=DATE-TIME:20260419T150122Z
UID:b91d8fad61b04f6696a65bb65a8fe74e@www.goiania.go.leg.br
CONTACT:VEREADOR ROGÉRIO CRUZ
CREATED;VALUE=DATE-TIME:20190916T135743Z
LAST-MODIFIED;VALUE=DATE-TIME:20190916T135751Z
LOCATION:AUDITÓRIO JAIME CÂMARA
URL:https://www.goiania.go.leg.br/sala-de-imprensa/eventos/audiencia-publi
 ca-para-debater-sobre-os-desafios-na-inclusao-dos-alunos-com-deficiencia-n
 o-sistema-escolar
END:VEVENT
BEGIN:VTIMEZONE
TZID:Brazil/East
X-LIC-LOCATION:Brazil/East
BEGIN:STANDARD
DTSTART;VALUE=DATE-TIME:20190216T230000
TZNAME:BRT
TZOFFSETFROM:-0200
TZOFFSETTO:-0300
END:STANDARD
END:VTIMEZONE
END:VCALENDAR
