BEGIN:VCALENDAR
VERSION:2.0
PRODID:-//Plone.org//NONSGML plone.app.event//EN
X-WR-TIMEZONE:Brazil/East
BEGIN:VEVENT
SUMMARY:AUDIÊNCIA PÚBLICA PARA DEBATER SOBRE A REALIDADE ATUAL NA GESTÃ
 O DOS CEMITÉRIOS PÚBLICOS E PARTICULARES DE GOIÂNIA E AS PRESTADORAS DE
  SERVIÇOS FUNERÁRIOS.
DTSTART;TZID=Brazil/East;VALUE=DATE-TIME:20171109T150000
DTEND;TZID=Brazil/East;VALUE=DATE-TIME:20171109T180000
DTSTAMP;VALUE=DATE-TIME:20260419T162646Z
UID:8eb4da5a5f7d4ac2ac64fed30891d514@www.goiania.go.leg.br
CONTACT:VEREADOR VINÍCIUS CIRQUEIRA
CREATED;VALUE=DATE-TIME:20171208T111313Z
LAST-MODIFIED;VALUE=DATE-TIME:20171208T112943Z
LOCATION:SALA DE REUNIÃO DA PRESIDÊNCIA
URL:https://www.goiania.go.leg.br/sala-de-imprensa/eventos/audiencia-publi
 ca-para-debater-sobre-a-realidade-atual-na-gestao-dos-cemiterios-publicos-
 e-particulares-de-goiania-e-as-prestadoras-de-servicos-funerarios
END:VEVENT
BEGIN:VTIMEZONE
TZID:Brazil/East
X-LIC-LOCATION:Brazil/East
BEGIN:DAYLIGHT
DTSTART;VALUE=DATE-TIME:20171015T010000
TZNAME:BRST
TZOFFSETFROM:-0300
TZOFFSETTO:-0200
END:DAYLIGHT
END:VTIMEZONE
END:VCALENDAR
