BEGIN:VCALENDAR
VERSION:2.0
PRODID:-//Plone.org//NONSGML plone.app.event//EN
X-WR-TIMEZONE:Brazil/East
BEGIN:VEVENT
SUMMARY:AUDIÊNCIA PÚBLICA PARA DEBATER SOBRE A NOVA MODULAÇÃO DOS PROF
 ESSORES DA REDE MUNICIPAL E O FECHAMENTO DAS TURMAS DO CICLO III\, DA REDE
  MUNICIPAL DE ENSINO.
DTSTART;TZID=Brazil/East;VALUE=DATE-TIME:20181211T140000
DTEND;TZID=Brazil/East;VALUE=DATE-TIME:20181211T180000
DTSTAMP;VALUE=DATE-TIME:20260419T150122Z
UID:033a6fcc9b9e485a803f95e7669902ef@www.goiania.go.leg.br
CONTACT:VEREADORA SABRINA GARCÊZ
CREATED;VALUE=DATE-TIME:20181206T090720Z
LAST-MODIFIED;VALUE=DATE-TIME:20181206T090726Z
LOCATION:AUDITÓRIO JAIME CÂMARA
URL:https://www.goiania.go.leg.br/sala-de-imprensa/eventos/audiencia-publi
 ca-para-debater-sobre-a-nova-modulacao-dos-professores-da-rede-municipal-e
 -o-fechamento-das-turmas-do-ciclo-iii-da-rede-municipal-de-ensino
END:VEVENT
BEGIN:VTIMEZONE
TZID:Brazil/East
X-LIC-LOCATION:Brazil/East
BEGIN:DAYLIGHT
DTSTART;VALUE=DATE-TIME:20181021T010000
TZNAME:BRST
TZOFFSETFROM:-0300
TZOFFSETTO:-0200
END:DAYLIGHT
END:VTIMEZONE
END:VCALENDAR
