BEGIN:VCALENDAR
VERSION:2.0
PRODID:-//Plone.org//NONSGML plone.app.event//EN
X-WR-TIMEZONE:Brazil/East
BEGIN:VEVENT
SUMMARY:AUDIÊNCIA PÚBLICA PARA DEBATER OS PREÇOS ELEVADOS DOS COMBUSTIV
 EL  NO MUNICÍPIO DE GOIÂNIA.
DTSTART;TZID=Brazil/East;VALUE=DATE-TIME:20250321T093000
DTEND;TZID=Brazil/East;VALUE=DATE-TIME:20250321T120000
DTSTAMP;VALUE=DATE-TIME:20260419T150137Z
UID:4687c89a6b8b4548a0be45d331137773@www.goiania.go.leg.br
CONTACT:VEREADOR CORONEL URZEDA
CREATED;VALUE=DATE-TIME:20250318T144730Z
LAST-MODIFIED;VALUE=DATE-TIME:20250318T144751Z
LOCATION:PLENÁRIO TRAJANO GUIMARÃES
URL:https://www.goiania.go.leg.br/sala-de-imprensa/eventos/audiencia-publi
 ca-para-debater-os-precos-elevados-dos-combustivel-no-municipio-de-goiania
END:VEVENT
BEGIN:VTIMEZONE
TZID:Brazil/East
X-LIC-LOCATION:Brazil/East
BEGIN:STANDARD
DTSTART;VALUE=DATE-TIME:20250215T230000
TZNAME:BRT
TZOFFSETFROM:-0200
TZOFFSETTO:-0300
END:STANDARD
END:VTIMEZONE
END:VCALENDAR
