BEGIN:VCALENDAR
VERSION:2.0
PRODID:-//Plone.org//NONSGML plone.app.event//EN
X-WR-TIMEZONE:Brazil/East
BEGIN:VEVENT
SUMMARY:AUDIÊNCIA PÚBLICA PARA DEBATER O PROJETO DE LEI COMPLEMENTAR QUE
  ALMEJA ALTERAR O REGULAMENTO DO IPTU NO CÓDIGO TRIBUTÁRIO MUNICIPAL.
DTSTART;TZID=Brazil/East;VALUE=DATE-TIME:20170525T140000
DTEND;TZID=Brazil/East;VALUE=DATE-TIME:20170525T180000
DTSTAMP;VALUE=DATE-TIME:20260419T162524Z
UID:eda1e337ef0a4db6b92cd9898bc0dbeb@www.goiania.go.leg.br
CONTACT:VEREADOR ALYSSON LIMA
CREATED;VALUE=DATE-TIME:20171208T111313Z
LAST-MODIFIED;VALUE=DATE-TIME:20171208T112935Z
LOCATION:AUDITÓRIO CARLOS EURICO
URL:https://www.goiania.go.leg.br/sala-de-imprensa/eventos/audiencia-publi
 ca-para-debater-o-projeto-de-lei-complementar-que-almeja-alterar-o-regulam
 ento-do-iptu-no-codigo-tributario-municipal
END:VEVENT
BEGIN:VTIMEZONE
TZID:Brazil/East
X-LIC-LOCATION:Brazil/East
BEGIN:STANDARD
DTSTART;VALUE=DATE-TIME:20170218T230000
TZNAME:BRT
TZOFFSETFROM:-0200
TZOFFSETTO:-0300
END:STANDARD
END:VTIMEZONE
END:VCALENDAR
