BEGIN:VCALENDAR
VERSION:2.0
PRODID:-//Plone.org//NONSGML plone.app.event//EN
X-WR-TIMEZONE:Brazil/East
BEGIN:VEVENT
SUMMARY:AUDIÊNCIA PÚBLICA- OUTUBRO ROSA\, PROVENDO O DEBATE SOBRE A CONS
 CIENTIZAÇÃO QUANTO OS TIPOS DE CÂNCER.
DTSTART;TZID=Brazil/East;VALUE=DATE-TIME:20231018T130000
DTEND;TZID=Brazil/East;VALUE=DATE-TIME:20231018T150000
DTSTAMP;VALUE=DATE-TIME:20260420T075517Z
UID:4abf6115588e4ba890f54b081507778a@www.goiania.go.leg.br
CONTACT:VEREADOR ISAÍAS RIBEIRO
CREATED;VALUE=DATE-TIME:20230912T124807Z
LAST-MODIFIED;VALUE=DATE-TIME:20230912T124826Z
LOCATION:PLENÁRIO TRAJANO GUIMARÃES
URL:https://www.goiania.go.leg.br/sala-de-imprensa/eventos/audiencia-publi
 ca-outubro-rosa-provendo-o-debate-sobre-a-conscientizacao-quanto-os-tipos-
 de-cancer
END:VEVENT
BEGIN:VTIMEZONE
TZID:Brazil/East
X-LIC-LOCATION:Brazil/East
BEGIN:DAYLIGHT
DTSTART;VALUE=DATE-TIME:20231015T010000
TZNAME:BRST
TZOFFSETFROM:-0300
TZOFFSETTO:-0200
END:DAYLIGHT
END:VTIMEZONE
END:VCALENDAR
