BEGIN:VCALENDAR
VERSION:2.0
PRODID:-//Plone.org//NONSGML plone.app.event//EN
X-WR-TIMEZONE:Brazil/East
BEGIN:VEVENT
SUMMARY:AUDIÊNCIA PÚBLICA ONDE SERÃO OUVIDOS O SENHORES ABEL  ALVES ROC
 HINHA E BRÁULIO AFONSO MORAIS\,  PRESIDENTES DA ENEL/CELG.               
                                                                        
DTSTART;TZID=Brazil/East;VALUE=DATE-TIME:20171220T140000
DTEND;TZID=Brazil/East;VALUE=DATE-TIME:20171220T180000
DTSTAMP;VALUE=DATE-TIME:20260419T150122Z
UID:9743d51f866d44b2b8abe85fea344157@www.goiania.go.leg.br
CONTACT:VEREADOR JORGE KAJURU
CREATED;VALUE=DATE-TIME:20171219T100755Z
LAST-MODIFIED;VALUE=DATE-TIME:20171219T100811Z
LOCATION:AUDITÓRIO CARLOS EURICO
URL:https://www.goiania.go.leg.br/sala-de-imprensa/eventos/audiencia-publi
 ca-onde-serao-ouvidos-o-senhores-abel-alves-rochinha-e-braulio-afonso-mora
 is-presidentes-da-enel-celg
END:VEVENT
BEGIN:VTIMEZONE
TZID:Brazil/East
X-LIC-LOCATION:Brazil/East
BEGIN:DAYLIGHT
DTSTART;VALUE=DATE-TIME:20171015T010000
TZNAME:BRST
TZOFFSETFROM:-0300
TZOFFSETTO:-0200
END:DAYLIGHT
END:VTIMEZONE
END:VCALENDAR
