BEGIN:VCALENDAR
VERSION:2.0
PRODID:-//Plone.org//NONSGML plone.app.event//EN
X-WR-TIMEZONE:Brazil/East
BEGIN:VEVENT
SUMMARY:AUDIÊNCIA PÚBLICA ONDE SERÁ DISCUTIDO O PROJETO DE LEI DO PLANO
  PLURIANUAL - QUADRIÊNIO 2018/21.
DTSTART;TZID=Brazil/East;VALUE=DATE-TIME:20171030T090000
DTEND;TZID=Brazil/East;VALUE=DATE-TIME:20171030T120000
DTSTAMP;VALUE=DATE-TIME:20260419T150053Z
UID:e00d156c805e496a8629f0453f524120@www.goiania.go.leg.br
CONTACT:VEREADOR WELINGTON PEIXOTO
CREATED;VALUE=DATE-TIME:20171208T111313Z
LAST-MODIFIED;VALUE=DATE-TIME:20171208T112943Z
LOCATION:SALA DE REUNIÃO DA PRESIDÊNCIA
URL:https://www.goiania.go.leg.br/sala-de-imprensa/eventos/audiencia-publi
 ca-onde-sera-discutido-o-projeto-de-lei-do-plano-plurianual-quadrienio-201
 8-21-1
END:VEVENT
BEGIN:VTIMEZONE
TZID:Brazil/East
X-LIC-LOCATION:Brazil/East
BEGIN:DAYLIGHT
DTSTART;VALUE=DATE-TIME:20171015T010000
TZNAME:BRST
TZOFFSETFROM:-0300
TZOFFSETTO:-0200
END:DAYLIGHT
END:VTIMEZONE
END:VCALENDAR
