BEGIN:VCALENDAR
VERSION:2.0
PRODID:-//Plone.org//NONSGML plone.app.event//EN
X-WR-TIMEZONE:Brazil/East
BEGIN:VEVENT
SUMMARY:AUDIÊNCIA PÚBLICA ONDE SERÁ COBRADO DA CONCESSIONÁRIA ENEL O C
 UMPRIMENTO DA LEI Nº 10.206/18.
DTSTART;TZID=Brazil/East;VALUE=DATE-TIME:20190227T140000
DTEND;TZID=Brazil/East;VALUE=DATE-TIME:20190227T180000
DTSTAMP;VALUE=DATE-TIME:20260419T150051Z
UID:db0e8d3fe0104f639037af378979eb78@www.goiania.go.leg.br
CONTACT:VEREADOR ÁLVARO DA UNIVERSO
CREATED;VALUE=DATE-TIME:20190219T102420Z
LAST-MODIFIED;VALUE=DATE-TIME:20190219T102426Z
LOCATION:SALA DE REUNIÃO DAS COMISSÕES
URL:https://www.goiania.go.leg.br/sala-de-imprensa/eventos/audiencia-publi
 ca-onde-sera-cobrado-da-concessionaria-enel-o-cumprimento-da-lei-no-10-206
 -18
END:VEVENT
BEGIN:VTIMEZONE
TZID:Brazil/East
X-LIC-LOCATION:Brazil/East
BEGIN:STANDARD
DTSTART;VALUE=DATE-TIME:20190216T230000
TZNAME:BRT
TZOFFSETFROM:-0200
TZOFFSETTO:-0300
END:STANDARD
END:VTIMEZONE
END:VCALENDAR
