BEGIN:VCALENDAR
VERSION:2.0
PRODID:-//Plone.org//NONSGML plone.app.event//EN
X-WR-TIMEZONE:Brazil/East
BEGIN:VEVENT
SUMMARY:AUDIÊNCIA PÚBLICA "OBSTÁCULOS ENFRENTADOS POR FAMÍLIAS NA COND
 IÇÃO TEA (TRANSTORNO DO ESPECTRO AUTISTA)".
DTSTART;TZID=Brazil/East;VALUE=DATE-TIME:20250610T190000
DTEND;TZID=Brazil/East;VALUE=DATE-TIME:20250610T220000
DTSTAMP;VALUE=DATE-TIME:20260419T094336Z
UID:bb7b7ef77e844e799c152a4bcea7c1e5@www.goiania.go.leg.br
CONTACT:VEREADOR VITOR HUGO
CREATED;VALUE=DATE-TIME:20250603T150534Z
LAST-MODIFIED;VALUE=DATE-TIME:20250603T150630Z
LOCATION:SALA DE REUNIÃO DAS COMISSÕES
URL:https://www.goiania.go.leg.br/sala-de-imprensa/eventos/audiencia-publi
 ca-obstaculos-enfrentados-por-familias-na-condicao-tea-transtorno-do-espec
 tro-autista
END:VEVENT
BEGIN:VTIMEZONE
TZID:Brazil/East
X-LIC-LOCATION:Brazil/East
BEGIN:STANDARD
DTSTART;VALUE=DATE-TIME:20250215T230000
TZNAME:BRT
TZOFFSETFROM:-0200
TZOFFSETTO:-0300
END:STANDARD
END:VTIMEZONE
END:VCALENDAR
