BEGIN:VCALENDAR
VERSION:2.0
PRODID:-//Plone.org//NONSGML plone.app.event//EN
X-WR-TIMEZONE:Brazil/East
BEGIN:VEVENT
SUMMARY:AUDIÊNCIA PÚBLICA "NOVO PLANO DE MOBILIDADE DE GOIÂNIA".
DTSTART;TZID=Brazil/East;VALUE=DATE-TIME:20250218T130000
DTEND;TZID=Brazil/East;VALUE=DATE-TIME:20250218T180000
DTSTAMP;VALUE=DATE-TIME:20260419T094149Z
UID:71ea4cbbd90e40ef9dbd9df05858cb2b@www.goiania.go.leg.br
CONTACT:VEREADORA KATIA
CREATED;VALUE=DATE-TIME:20250213T125045Z
LAST-MODIFIED;VALUE=DATE-TIME:20250213T125056Z
LOCATION:PLENÁRIO TRAJANO GUIMARÃES
URL:https://www.goiania.go.leg.br/sala-de-imprensa/eventos/audiencia-publi
 ca-novo-plano-de-mobilidade-de-goiania
END:VEVENT
BEGIN:VTIMEZONE
TZID:Brazil/East
X-LIC-LOCATION:Brazil/East
BEGIN:STANDARD
DTSTART;VALUE=DATE-TIME:20250215T230000
TZNAME:BRT
TZOFFSETFROM:-0200
TZOFFSETTO:-0300
END:STANDARD
END:VTIMEZONE
END:VCALENDAR
