BEGIN:VCALENDAR
VERSION:2.0
PRODID:-//Plone.org//NONSGML plone.app.event//EN
X-WR-TIMEZONE:Brazil/East
BEGIN:VEVENT
SUMMARY:AUDIÊNCIA PÚBLICA: MISSÃO DO CNDH EM GOIÁS.
DTSTART;TZID=Brazil/East;VALUE=DATE-TIME:20220819T133000
DTEND;TZID=Brazil/East;VALUE=DATE-TIME:20220819T160000
DTSTAMP;VALUE=DATE-TIME:20260420T051133Z
UID:e9416865ae75422091bed2fc7202a536@www.goiania.go.leg.br
CONTACT:VEREADOR MAURO RUBEM
CREATED;VALUE=DATE-TIME:20220812T153850Z
LAST-MODIFIED;VALUE=DATE-TIME:20220812T153901Z
LOCATION:PLENÁRIO TRAJANO GUIMARÃES
URL:https://www.goiania.go.leg.br/sala-de-imprensa/eventos/audiencia-publi
 ca-missao-do-cndh-em-goias
END:VEVENT
BEGIN:VTIMEZONE
TZID:Brazil/East
X-LIC-LOCATION:Brazil/East
BEGIN:STANDARD
DTSTART;VALUE=DATE-TIME:20220219T230000
TZNAME:BRT
TZOFFSETFROM:-0200
TZOFFSETTO:-0300
END:STANDARD
END:VTIMEZONE
END:VCALENDAR
