BEGIN:VCALENDAR
VERSION:2.0
PRODID:-//Plone.org//NONSGML plone.app.event//EN
X-WR-TIMEZONE:Brazil/East
BEGIN:VEVENT
SUMMARY:AUDIÊNCIA PÚBLICA "IRREGULARIDADES NAS MULTAS POR RADAR".
DTSTART;TZID=Brazil/East;VALUE=DATE-TIME:20260325T140000
DTEND;TZID=Brazil/East;VALUE=DATE-TIME:20260325T180000
DTSTAMP;VALUE=DATE-TIME:20260419T093746Z
UID:cce5db3df8574eef950efc4d77cd2554@www.goiania.go.leg.br
CONTACT:VEREADOR SANCHES DA FEDERAL
CREATED;VALUE=DATE-TIME:20260309T104216Z
LAST-MODIFIED;VALUE=DATE-TIME:20260309T104308Z
LOCATION:AUDITÓRIO JAIME CÂMARA
URL:https://www.goiania.go.leg.br/sala-de-imprensa/eventos/audiencia-publi
 ca-irregularidades-nas-multas-por-radar
END:VEVENT
BEGIN:VTIMEZONE
TZID:Brazil/East
X-LIC-LOCATION:Brazil/East
BEGIN:STANDARD
DTSTART;VALUE=DATE-TIME:20260221T230000
TZNAME:BRT
TZOFFSETFROM:-0200
TZOFFSETTO:-0300
END:STANDARD
END:VTIMEZONE
END:VCALENDAR
