BEGIN:VCALENDAR
VERSION:2.0
PRODID:-//Plone.org//NONSGML plone.app.event//EN
X-WR-TIMEZONE:Brazil/East
BEGIN:VEVENT
SUMMARY:AUDIÊNCIA PÚBLICA "HOMEANGEM AO DIA NACIONAL DA CONSCIÊNCIA NEG
 RA".
DTSTART;TZID=Brazil/East;VALUE=DATE-TIME:20241122T090000
DTEND;TZID=Brazil/East;VALUE=DATE-TIME:20241122T120000
DTSTAMP;VALUE=DATE-TIME:20260420T053727Z
UID:38cc10c74f004d728a26cfb59907cfbf@www.goiania.go.leg.br
CONTACT:VEREADORA KATIA
CREATED;VALUE=DATE-TIME:20240904T115854Z
LAST-MODIFIED;VALUE=DATE-TIME:20240904T115905Z
LOCATION:PLENÁRIO TRAJANO GUIMARÃES
URL:https://www.goiania.go.leg.br/sala-de-imprensa/eventos/audiencia-publi
 ca-homeangem-ao-dia-nacional-da-consciencia-negra
END:VEVENT
BEGIN:VTIMEZONE
TZID:Brazil/East
X-LIC-LOCATION:Brazil/East
BEGIN:DAYLIGHT
DTSTART;VALUE=DATE-TIME:20241020T010000
TZNAME:BRST
TZOFFSETFROM:-0300
TZOFFSETTO:-0200
END:DAYLIGHT
END:VTIMEZONE
END:VCALENDAR
