BEGIN:VCALENDAR
VERSION:2.0
PRODID:-//Plone.org//NONSGML plone.app.event//EN
X-WR-TIMEZONE:Brazil/East
BEGIN:VEVENT
SUMMARY:AUDIÊNCIA PÚBLICA DOENÇAS RARAS.
DTSTART;TZID=Brazil/East;VALUE=DATE-TIME:20240528T130000
DTEND;TZID=Brazil/East;VALUE=DATE-TIME:20240528T160000
DTSTAMP;VALUE=DATE-TIME:20260419T133036Z
UID:2e5be0f0a64a43a0b1403a964e307e1a@www.goiania.go.leg.br
CONTACT:VEREADORA KATIA
CREATED;VALUE=DATE-TIME:20240508T220727Z
LAST-MODIFIED;VALUE=DATE-TIME:20240508T220803Z
LOCATION:SALA DE REUNIÃO DA PRESIDÊNCIA
URL:https://www.goiania.go.leg.br/sala-de-imprensa/eventos/audiencia-publi
 ca-doencas-raras
END:VEVENT
BEGIN:VTIMEZONE
TZID:Brazil/East
X-LIC-LOCATION:Brazil/East
BEGIN:STANDARD
DTSTART;VALUE=DATE-TIME:20240217T230000
TZNAME:BRT
TZOFFSETFROM:-0200
TZOFFSETTO:-0300
END:STANDARD
END:VTIMEZONE
END:VCALENDAR
