BEGIN:VCALENDAR
VERSION:2.0
PRODID:-//Plone.org//NONSGML plone.app.event//EN
X-WR-TIMEZONE:Brazil/East
BEGIN:VEVENT
SUMMARY:AUDIÊNCIA PÚBLICA DO PLCN Nº 00028/21 - CÓDIGO TRIBUTÁRIO MUN
 ICIPAL.
DTSTART;TZID=Brazil/East;VALUE=DATE-TIME:20210923T140000
DTEND;TZID=Brazil/East;VALUE=DATE-TIME:20210923T160000
DTSTAMP;VALUE=DATE-TIME:20260419T120711Z
UID:da46bbceb2fb48aaa2530dad85eb8bbc@www.goiania.go.leg.br
CONTACT:VEREADORA SABRINA GARCEZ
CREATED;VALUE=DATE-TIME:20210920T154709Z
LAST-MODIFIED;VALUE=DATE-TIME:20210920T154813Z
LOCATION:PLENÁRIO TRAJANO GUIMARÃES
URL:https://www.goiania.go.leg.br/sala-de-imprensa/eventos/audiencia-publi
 ca-do-plcn-no-00028-21-codigo-tributario-municipal
END:VEVENT
BEGIN:VTIMEZONE
TZID:Brazil/East
X-LIC-LOCATION:Brazil/East
BEGIN:STANDARD
DTSTART;VALUE=DATE-TIME:20210220T230000
TZNAME:BRT
TZOFFSETFROM:-0200
TZOFFSETTO:-0300
END:STANDARD
END:VTIMEZONE
END:VCALENDAR
