BEGIN:VCALENDAR
VERSION:2.0
PRODID:-//Plone.org//NONSGML plone.app.event//EN
X-WR-TIMEZONE:Brazil/East
BEGIN:VEVENT
SUMMARY:AUDIÊNCIA PÚBLICA "DIA INTERNACIONAL DA ELIMINAÇÃO DA VIOLÊNC
 IA CONTRA AS MULHERES."
DTSTART;TZID=Brazil/East;VALUE=DATE-TIME:20191127T140000
DTEND;TZID=Brazil/East;VALUE=DATE-TIME:20191127T180000
DTSTAMP;VALUE=DATE-TIME:20260419T094149Z
UID:7f2c6ab4c3624ba785acf58103da81c1@www.goiania.go.leg.br
CONTACT:VEREADORA DRA. CRISTINA LOPES AFONSO
CREATED;VALUE=DATE-TIME:20191030T143733Z
LAST-MODIFIED;VALUE=DATE-TIME:20191121T113114Z
LOCATION:AUDITÓRIO CARLOS EURICO
URL:https://www.goiania.go.leg.br/sala-de-imprensa/eventos/audiencia-publi
 ca-dia-internacional-da-eliminacao-da-violencia-contra-as-mulheres
END:VEVENT
BEGIN:VTIMEZONE
TZID:Brazil/East
X-LIC-LOCATION:Brazil/East
BEGIN:DAYLIGHT
DTSTART;VALUE=DATE-TIME:20191020T010000
TZNAME:BRST
TZOFFSETFROM:-0300
TZOFFSETTO:-0200
END:DAYLIGHT
END:VTIMEZONE
END:VCALENDAR
