BEGIN:VCALENDAR
VERSION:2.0
PRODID:-//Plone.org//NONSGML plone.app.event//EN
X-WR-TIMEZONE:Brazil/East
BEGIN:VEVENT
SUMMARY:AUDIÊNCIA PÚBLICA DEBATER OS PARAMETROS PARA O USO\, CONSERVAÇ
 ÃO\, RISCOS DE SEGURANÇA\, DESTINAÇÃO MUDANÇAS NA LEGISLAÇÃO QUE DI
 SCIPLINAM OS PRÉDIOS PÚBLICOS. 
DTSTART;TZID=Brazil/East;VALUE=DATE-TIME:20180509T143000
DTEND;TZID=Brazil/East;VALUE=DATE-TIME:20180509T180000
DTSTAMP;VALUE=DATE-TIME:20260419T133423Z
UID:9b1fc74f94344216971024ed1581c55a@www.goiania.go.leg.br
CONTACT:VEREADOR ANSELMO PEREIRA
CREATED;VALUE=DATE-TIME:20180508T121359Z
LAST-MODIFIED;VALUE=DATE-TIME:20180508T121456Z
LOCATION:SALA DE REUNIÃO DA PRESIDÊNCIA
URL:https://www.goiania.go.leg.br/sala-de-imprensa/eventos/audiencia-publi
 ca-debater-os-parametros-para-o-uso-conservacao-riscos-de-seguranca-destin
 acao-mudancas-na-legislacao-que-disciplinam-os-predios-publicos
END:VEVENT
BEGIN:VTIMEZONE
TZID:Brazil/East
X-LIC-LOCATION:Brazil/East
BEGIN:STANDARD
DTSTART;VALUE=DATE-TIME:20180217T230000
TZNAME:BRT
TZOFFSETFROM:-0200
TZOFFSETTO:-0300
END:STANDARD
END:VTIMEZONE
END:VCALENDAR
