BEGIN:VCALENDAR
VERSION:2.0
PRODID:-//Plone.org//NONSGML plone.app.event//EN
X-WR-TIMEZONE:Brazil/East
BEGIN:VEVENT
SUMMARY:AUDIÊNCIA PÚBLICA DE PRESTAÇÃO DE CONTAS PELO PREFEITO MUNICIP
 AL RELATIVAS AO PRIMEIRO QUADRIMESTRE DE 2023.
DTSTART;TZID=Brazil/East;VALUE=DATE-TIME:20230704T140000
DTEND;TZID=Brazil/East;VALUE=DATE-TIME:20230704T180000
DTSTAMP;VALUE=DATE-TIME:20260419T120941Z
UID:d45f4769b57643ca8a8b49fab6c6b7a2@www.goiania.go.leg.br
CONTACT:COMISSÃO MISTA
CREATED;VALUE=DATE-TIME:20230629T153238Z
LAST-MODIFIED;VALUE=DATE-TIME:20230629T153252Z
LOCATION:PLENÁRIO TRAJANO GUIMARÃES
URL:https://www.goiania.go.leg.br/sala-de-imprensa/eventos/audiencia-publi
 ca-de-prestacao-de-contas-pelo-prefeito-municipal-relativas-ao-primeiro-qu
 adrimestre-de-2023
END:VEVENT
BEGIN:VTIMEZONE
TZID:Brazil/East
X-LIC-LOCATION:Brazil/East
BEGIN:STANDARD
DTSTART;VALUE=DATE-TIME:20230225T230000
TZNAME:BRT
TZOFFSETFROM:-0200
TZOFFSETTO:-0300
END:STANDARD
END:VTIMEZONE
END:VCALENDAR
