BEGIN:VCALENDAR
VERSION:2.0
PRODID:-//Plone.org//NONSGML plone.app.event//EN
X-WR-TIMEZONE:Brazil/East
BEGIN:VEVENT
SUMMARY:AUDIÊNCIA PÚBLICA DE PRESTAÇÃO DE CONTAS PELO PREFEITO DE GOI
 ÂNIA.
DTSTART;TZID=Brazil/East;VALUE=DATE-TIME:20251002T080000
DTEND;TZID=Brazil/East;VALUE=DATE-TIME:20251002T120000
DTSTAMP;VALUE=DATE-TIME:20260419T120711Z
UID:83e1ad124d7344f9b6dd820d8ca5bdd4@www.goiania.go.leg.br
CONTACT:VEREADOR CABO SENNA
CREATED;VALUE=DATE-TIME:20250925T214445Z
LAST-MODIFIED;VALUE=DATE-TIME:20250925T214513Z
LOCATION:PLENÁRIO TRAJANO GUIMARÃES
URL:https://www.goiania.go.leg.br/sala-de-imprensa/eventos/audiencia-publi
 ca-de-prestacao-de-contas-pelo-prefeito-de-goiania
END:VEVENT
BEGIN:VTIMEZONE
TZID:Brazil/East
X-LIC-LOCATION:Brazil/East
BEGIN:STANDARD
DTSTART;VALUE=DATE-TIME:20250215T230000
TZNAME:BRT
TZOFFSETFROM:-0200
TZOFFSETTO:-0300
END:STANDARD
END:VTIMEZONE
END:VCALENDAR
