BEGIN:VCALENDAR
VERSION:2.0
PRODID:-//Plone.org//NONSGML plone.app.event//EN
X-WR-TIMEZONE:Brazil/East
BEGIN:VEVENT
SUMMARY:AUDIÊNCIA PÚBLICA DE PRESTAÇÃO DE CONTAS E CUMPRIMENTO DAS MET
 AS FISCAIS PELO PREFEITO MUNICIPAL DE GOIÂNIA.
DTSTART;TZID=Brazil/East;VALUE=DATE-TIME:20230502T080000
DTEND;TZID=Brazil/East;VALUE=DATE-TIME:20230502T120000
DTSTAMP;VALUE=DATE-TIME:20260419T120944Z
UID:f1449c24bc724ce1ace4483489d13e9f@www.goiania.go.leg.br
CONTACT:VEREADOR CABO SENNA
CREATED;VALUE=DATE-TIME:20230418T122648Z
LAST-MODIFIED;VALUE=DATE-TIME:20230418T122858Z
LOCATION:PLENÁRIO TRAJANO GUIMARÃES
URL:https://www.goiania.go.leg.br/sala-de-imprensa/eventos/audiencia-publi
 ca-de-prestacao-de-contas-e-cumprimento-das-metas-fiscais-pelo-prefeito-mu
 nicipal-de-goiania
END:VEVENT
BEGIN:VTIMEZONE
TZID:Brazil/East
X-LIC-LOCATION:Brazil/East
BEGIN:STANDARD
DTSTART;VALUE=DATE-TIME:20230225T230000
TZNAME:BRT
TZOFFSETFROM:-0200
TZOFFSETTO:-0300
END:STANDARD
END:VTIMEZONE
END:VCALENDAR
