BEGIN:VCALENDAR
VERSION:2.0
PRODID:-//Plone.org//NONSGML plone.app.event//EN
X-WR-TIMEZONE:Brazil/East
BEGIN:VEVENT
SUMMARY:AUDIÊNCIA PÚBLICA DE PRESTAÇÃO DE CONTAS DA SECRETÁRIA MUNICI
 PAL DE SAÚDE - 1º QUADRIMESTRE/2022.
DTSTART;TZID=Brazil/East;VALUE=DATE-TIME:20220830T140000
DTEND;TZID=Brazil/East;VALUE=DATE-TIME:20220830T180000
DTSTAMP;VALUE=DATE-TIME:20260419T133423Z
UID:085d14fedf2b4527bb174f82bb38e9c1@www.goiania.go.leg.br
CONTACT:VEREADOR MAURO RUBEM
CREATED;VALUE=DATE-TIME:20220817T114527Z
LAST-MODIFIED;VALUE=DATE-TIME:20220817T114537Z
LOCATION:PLENÁRIO TRAJANO GUIMARÃES
URL:https://www.goiania.go.leg.br/sala-de-imprensa/eventos/audiencia-publi
 ca-de-prestacao-de-contas-da-secretaria-municipal-de-saude-1o-quadrimestre
 -2022
END:VEVENT
BEGIN:VTIMEZONE
TZID:Brazil/East
X-LIC-LOCATION:Brazil/East
BEGIN:STANDARD
DTSTART;VALUE=DATE-TIME:20220219T230000
TZNAME:BRT
TZOFFSETFROM:-0200
TZOFFSETTO:-0300
END:STANDARD
END:VTIMEZONE
END:VCALENDAR
