BEGIN:VCALENDAR
VERSION:2.0
PRODID:-//Plone.org//NONSGML plone.app.event//EN
X-WR-TIMEZONE:Brazil/East
BEGIN:VEVENT
SUMMARY:AUDIÊNCIA PÚBLICA DE PRESTAÇÃO DE CONTAS DA COMISSÃO DE DIREI
 TOS HUMANOS E CIDADANIA.
DTSTART;TZID=Brazil/East;VALUE=DATE-TIME:20190506T140000
DTEND;TZID=Brazil/East;VALUE=DATE-TIME:20190506T180000
DTSTAMP;VALUE=DATE-TIME:20260419T120748Z
UID:b95bd316b29a488fa9ff5bca30e60da6@www.goiania.go.leg.br
CONTACT:VEREADORA DRA. CRISTINA LOPES AFONSO
CREATED;VALUE=DATE-TIME:20190409T102158Z
LAST-MODIFIED;VALUE=DATE-TIME:20190409T102207Z
LOCATION:SALA DE REUNIÃO DA PRESIDÊNCIA
URL:https://www.goiania.go.leg.br/sala-de-imprensa/eventos/audiencia-publi
 ca-de-prestacao-de-contas-da-comissao-de-direitos-humanos-e-cidadania
END:VEVENT
BEGIN:VTIMEZONE
TZID:Brazil/East
X-LIC-LOCATION:Brazil/East
BEGIN:STANDARD
DTSTART;VALUE=DATE-TIME:20190216T230000
TZNAME:BRT
TZOFFSETFROM:-0200
TZOFFSETTO:-0300
END:STANDARD
END:VTIMEZONE
END:VCALENDAR
