BEGIN:VCALENDAR
VERSION:2.0
PRODID:-//Plone.org//NONSGML plone.app.event//EN
X-WR-TIMEZONE:Brazil/East
BEGIN:VEVENT
SUMMARY:AUDIÊNCIA PÚBLICA DA CAMPANHA LAÇO BRANCO - HOMENS PELO FIM DA 
 VIOLÊNCIA CONTRA AS MULHERES.
DTSTART;TZID=Brazil/East;VALUE=DATE-TIME:20211206T140000
DTEND;TZID=Brazil/East;VALUE=DATE-TIME:20211206T160000
DTSTAMP;VALUE=DATE-TIME:20260419T120942Z
UID:f1fbb4a4cb594b77934ae5e164f9c1cd@www.goiania.go.leg.br
CONTACT:VEREADOR MAURO RUBEM
CREATED;VALUE=DATE-TIME:20211116T130155Z
LAST-MODIFIED;VALUE=DATE-TIME:20211116T130220Z
LOCATION:PLENÁRIO TRAJANO GUIMARÃES
URL:https://www.goiania.go.leg.br/sala-de-imprensa/eventos/audiencia-publi
 ca-da-campanha-laco-branco-homens-pelo-fim-da-violencia-contra-as-mulheres
END:VEVENT
BEGIN:VTIMEZONE
TZID:Brazil/East
X-LIC-LOCATION:Brazil/East
BEGIN:DAYLIGHT
DTSTART;VALUE=DATE-TIME:20211017T010000
TZNAME:BRST
TZOFFSETFROM:-0300
TZOFFSETTO:-0200
END:DAYLIGHT
END:VTIMEZONE
END:VCALENDAR
