BEGIN:VCALENDAR
VERSION:2.0
PRODID:-//Plone.org//NONSGML plone.app.event//EN
X-WR-TIMEZONE:Brazil/East
BEGIN:VEVENT
SUMMARY:AUDIÊNCIA PÚBLICA "COMUNISMO: O IMPACTO SOCIAL E A GUERRA CONTRA
  O INDIVÍDUO".
DTSTART;TZID=Brazil/East;VALUE=DATE-TIME:20211015T140000
DTEND;TZID=Brazil/East;VALUE=DATE-TIME:20211015T160000
DTSTAMP;VALUE=DATE-TIME:20260419T094251Z
UID:88429cec67e14b0ba45e494a9a7ceadf@www.goiania.go.leg.br
CONTACT:VEREADORA GABRIELA RODART
CREATED;VALUE=DATE-TIME:20210923T194754Z
LAST-MODIFIED;VALUE=DATE-TIME:20210928T133735Z
LOCATION:Plenário Trajano Guimarães
URL:https://www.goiania.go.leg.br/sala-de-imprensa/eventos/audiencia-publi
 ca-comunismo-o-impacto-social-e-a-guerra-contra-o-individuo
END:VEVENT
BEGIN:VTIMEZONE
TZID:Brazil/East
X-LIC-LOCATION:Brazil/East
BEGIN:STANDARD
DTSTART;VALUE=DATE-TIME:20210220T230000
TZNAME:BRT
TZOFFSETFROM:-0200
TZOFFSETTO:-0300
END:STANDARD
END:VTIMEZONE
END:VCALENDAR
