BEGIN:VCALENDAR
VERSION:2.0
PRODID:-//Plone.org//NONSGML plone.app.event//EN
X-WR-TIMEZONE:Brazil/East
BEGIN:VEVENT
SUMMARY:AUDIÊNCIA PÚBLICA COM OS SERVIDORES DA COMURG.
DTSTART;TZID=Brazil/East;VALUE=DATE-TIME:20190808T160000
DTEND;TZID=Brazil/East;VALUE=DATE-TIME:20190808T180000
DTSTAMP;VALUE=DATE-TIME:20260419T120521Z
UID:0f535182a0eb4707ac7c24c59fd24eda@www.goiania.go.leg.br
CONTACT:VEREADOR CARLIN CAFÉ
CREATED;VALUE=DATE-TIME:20190626T101607Z
LAST-MODIFIED;VALUE=DATE-TIME:20190807T123400Z
LOCATION:AUDITÓRIO JAIME CÂMARA
URL:https://www.goiania.go.leg.br/sala-de-imprensa/eventos/audiencia-publi
 ca-com-os-servidores-da-comurg
END:VEVENT
BEGIN:VTIMEZONE
TZID:Brazil/East
X-LIC-LOCATION:Brazil/East
BEGIN:STANDARD
DTSTART;VALUE=DATE-TIME:20190216T230000
TZNAME:BRT
TZOFFSETFROM:-0200
TZOFFSETTO:-0300
END:STANDARD
END:VTIMEZONE
END:VCALENDAR
