BEGIN:VCALENDAR
VERSION:2.0
PRODID:-//Plone.org//NONSGML plone.app.event//EN
X-WR-TIMEZONE:Brazil/East
BEGIN:VEVENT
SUMMARY:AUDIÊNCIA PÚBLICA COM OS MONTADORES DE FEIRA DE GOIÂNIA.
DTSTART;TZID=Brazil/East;VALUE=DATE-TIME:20230428T140000
DTEND;TZID=Brazil/East;VALUE=DATE-TIME:20230428T160000
DTSTAMP;VALUE=DATE-TIME:20260419T120712Z
UID:55d12389d9df407e8dda70e8cdd4e22c@www.goiania.go.leg.br
CONTACT:VEREADOR HENRIQUE ALVES
CREATED;VALUE=DATE-TIME:20230419T204054Z
LAST-MODIFIED;VALUE=DATE-TIME:20230419T204105Z
LOCATION:PLENÁRIO TRAJANO GUIMARÃES
URL:https://www.goiania.go.leg.br/sala-de-imprensa/eventos/audiencia-publi
 ca-com-os-montadores-de-feira-de-goiania
END:VEVENT
BEGIN:VTIMEZONE
TZID:Brazil/East
X-LIC-LOCATION:Brazil/East
BEGIN:STANDARD
DTSTART;VALUE=DATE-TIME:20230225T230000
TZNAME:BRT
TZOFFSETFROM:-0200
TZOFFSETTO:-0300
END:STANDARD
END:VTIMEZONE
END:VCALENDAR
