BEGIN:VCALENDAR
VERSION:2.0
PRODID:-//Plone.org//NONSGML plone.app.event//EN
X-WR-TIMEZONE:Brazil/East
BEGIN:VEVENT
SUMMARY:AUDIÊNCIA PÚBLICA COM OS FEIRANES DA FEIRA HIPPIE.
DTSTART;TZID=Brazil/East;VALUE=DATE-TIME:20250910T140000
DTEND;TZID=Brazil/East;VALUE=DATE-TIME:20250910T180000
DTSTAMP;VALUE=DATE-TIME:20260419T120620Z
UID:f009992f78de40e4a4c12659d24b9535@www.goiania.go.leg.br
CONTACT:VEREADOR SARGENTO NOVANDIR
CREATED;VALUE=DATE-TIME:20250902T140741Z
LAST-MODIFIED;VALUE=DATE-TIME:20250902T140756Z
LOCATION:AUDITÓRIO JAIME CÂMARA
URL:https://www.goiania.go.leg.br/sala-de-imprensa/eventos/audiencia-publi
 ca-com-os-feiranes-da-feira-hippie
END:VEVENT
BEGIN:VTIMEZONE
TZID:Brazil/East
X-LIC-LOCATION:Brazil/East
BEGIN:STANDARD
DTSTART;VALUE=DATE-TIME:20250215T230000
TZNAME:BRT
TZOFFSETFROM:-0200
TZOFFSETTO:-0300
END:STANDARD
END:VTIMEZONE
END:VCALENDAR
