BEGIN:VCALENDAR
VERSION:2.0
PRODID:-//Plone.org//NONSGML plone.app.event//EN
X-WR-TIMEZONE:Brazil/East
BEGIN:VEVENT
SUMMARY:AUDIÊNCIA PÚBLICA COM O TEMA "PLANO MUNICIPAL DE CULTURA".
DTSTART;TZID=Brazil/East;VALUE=DATE-TIME:20230510T130000
DTEND;TZID=Brazil/East;VALUE=DATE-TIME:20230510T160000
DTSTAMP;VALUE=DATE-TIME:20260419T105805Z
UID:d9afefe832794d988e4fddf5e1d3bca4@www.goiania.go.leg.br
CONTACT:VEREADORA KATIA
CREATED;VALUE=DATE-TIME:20230508T103828Z
LAST-MODIFIED;VALUE=DATE-TIME:20230508T103930Z
LOCATION:PLENÁRIO TRAJANO GUIMARÃES
URL:https://www.goiania.go.leg.br/sala-de-imprensa/eventos/audiencia-publi
 ca-com-o-tema-plano-municipal-de-cultura
END:VEVENT
BEGIN:VTIMEZONE
TZID:Brazil/East
X-LIC-LOCATION:Brazil/East
BEGIN:STANDARD
DTSTART;VALUE=DATE-TIME:20230225T230000
TZNAME:BRT
TZOFFSETFROM:-0200
TZOFFSETTO:-0300
END:STANDARD
END:VTIMEZONE
END:VCALENDAR
