BEGIN:VCALENDAR
VERSION:2.0
PRODID:-//Plone.org//NONSGML plone.app.event//EN
X-WR-TIMEZONE:Brazil/East
BEGIN:VEVENT
SUMMARY:AUDIÊNCIA PÚBLICA COM O TEMA "NÃO BATA! LEI MENINO BERNARDO - 1
 0 ANOS".
DTSTART;TZID=Brazil/East;VALUE=DATE-TIME:20240626T140000
DTEND;TZID=Brazil/East;VALUE=DATE-TIME:20240626T170000
DTSTAMP;VALUE=DATE-TIME:20260419T105805Z
UID:5f8720fb06ab4b12baf2d0e6cc775054@www.goiania.go.leg.br
CONTACT:VEREADOR FABRICIO ROSA
CREATED;VALUE=DATE-TIME:20240614T141024Z
LAST-MODIFIED;VALUE=DATE-TIME:20240614T141101Z
LOCATION:AUDITÓRIO CARLOS EURICO
URL:https://www.goiania.go.leg.br/sala-de-imprensa/eventos/audiencia-publi
 ca-com-o-tema-nao-bata-lei-menino-bernardo-10-anos
END:VEVENT
BEGIN:VTIMEZONE
TZID:Brazil/East
X-LIC-LOCATION:Brazil/East
BEGIN:STANDARD
DTSTART;VALUE=DATE-TIME:20240217T230000
TZNAME:BRT
TZOFFSETFROM:-0200
TZOFFSETTO:-0300
END:STANDARD
END:VTIMEZONE
END:VCALENDAR
