BEGIN:VCALENDAR
VERSION:2.0
PRODID:-//Plone.org//NONSGML plone.app.event//EN
X-WR-TIMEZONE:Brazil/East
BEGIN:VEVENT
SUMMARY:AUDIÊNCIA PÚBLICA COM O "TEMA ESPORTE\, LAZER\,  CULTURA E A ART
 E COMO MOVIMENTO DE INCLUSÃO.
DTSTART;TZID=Brazil/East;VALUE=DATE-TIME:20231205T140000
DTEND;TZID=Brazil/East;VALUE=DATE-TIME:20231205T170000
DTSTAMP;VALUE=DATE-TIME:20260419T105339Z
UID:c9d8812b8ab64c30a9ae7621d0ff99aa@www.goiania.go.leg.br
CONTACT:VEREADOR WILLIAN VELOSO
CREATED;VALUE=DATE-TIME:20231127T135700Z
LAST-MODIFIED;VALUE=DATE-TIME:20231127T135715Z
LOCATION:PLENÁRIO TRAJANO GUIMARÃES
URL:https://www.goiania.go.leg.br/sala-de-imprensa/eventos/audiencia-publi
 ca-com-o-tema-esporte-lazer-cultura-e-a-arte-como-movimento-de-inclusao
END:VEVENT
BEGIN:VTIMEZONE
TZID:Brazil/East
X-LIC-LOCATION:Brazil/East
BEGIN:DAYLIGHT
DTSTART;VALUE=DATE-TIME:20231015T010000
TZNAME:BRST
TZOFFSETFROM:-0300
TZOFFSETTO:-0200
END:DAYLIGHT
END:VTIMEZONE
END:VCALENDAR
