BEGIN:VCALENDAR
VERSION:2.0
PRODID:-//Plone.org//NONSGML plone.app.event//EN
X-WR-TIMEZONE:Brazil/East
BEGIN:VEVENT
SUMMARY:AUDIÊNCIA PÚBLICA COM O TEMA " EIXO DA SAÚDE".
DTSTART;TZID=Brazil/East;VALUE=DATE-TIME:20240801T090000
DTEND;TZID=Brazil/East;VALUE=DATE-TIME:20240801T120000
DTSTAMP;VALUE=DATE-TIME:20260419T120449Z
UID:aa3bc8c58cc446aca3fa2ea7ef8fac78@www.goiania.go.leg.br
CONTACT:VEREADOR LUCAS KITÃO
CREATED;VALUE=DATE-TIME:20240710T134814Z
LAST-MODIFIED;VALUE=DATE-TIME:20240710T134855Z
LOCATION:AUDITÓRIO CARLOS EURICO
URL:https://www.goiania.go.leg.br/sala-de-imprensa/eventos/audiencia-publi
 ca-com-o-tema-eixo-da-saude
END:VEVENT
BEGIN:VTIMEZONE
TZID:Brazil/East
X-LIC-LOCATION:Brazil/East
BEGIN:STANDARD
DTSTART;VALUE=DATE-TIME:20240217T230000
TZNAME:BRT
TZOFFSETFROM:-0200
TZOFFSETTO:-0300
END:STANDARD
END:VTIMEZONE
END:VCALENDAR
