BEGIN:VCALENDAR
VERSION:2.0
PRODID:-//Plone.org//NONSGML plone.app.event//EN
X-WR-TIMEZONE:Brazil/East
BEGIN:VEVENT
SUMMARY:AUDIÊNCIA PÚBLICA COM O TEMA "DEBATE SOBRE A DISTRIBUIÇÃO DE C
 ATE-TER HIDROFÍLICO PELO MUNICÍPIO.
DTSTART;TZID=Brazil/East;VALUE=DATE-TIME:20231003T140000
DTEND;TZID=Brazil/East;VALUE=DATE-TIME:20231003T160000
DTSTAMP;VALUE=DATE-TIME:20260419T120925Z
UID:64d6077b8a6c49b193580bfce51e59c8@www.goiania.go.leg.br
CONTACT:VEREADOR WILLIAN VELOSO
CREATED;VALUE=DATE-TIME:20230824T201511Z
LAST-MODIFIED;VALUE=DATE-TIME:20230824T201525Z
LOCATION:AUDITÓRIO CARLOS EURICO
URL:https://www.goiania.go.leg.br/sala-de-imprensa/eventos/audiencia-publi
 ca-com-o-tema-debate-sobre-a-distribuicao-de-cate-ter-hidrofilico-pelo-mun
 icipio
END:VEVENT
BEGIN:VTIMEZONE
TZID:Brazil/East
X-LIC-LOCATION:Brazil/East
BEGIN:STANDARD
DTSTART;VALUE=DATE-TIME:20230225T230000
TZNAME:BRT
TZOFFSETFROM:-0200
TZOFFSETTO:-0300
END:STANDARD
END:VTIMEZONE
END:VCALENDAR
