BEGIN:VCALENDAR
VERSION:2.0
PRODID:-//Plone.org//NONSGML plone.app.event//EN
X-WR-TIMEZONE:Brazil/East
BEGIN:VEVENT
SUMMARY:AUDIÊNCIA PÚBLICA COM O TEMA "ACESSIBILIDADE E MOBILIDADE NO TRA
 NSPORTE COLETIVO".
DTSTART;TZID=Brazil/East;VALUE=DATE-TIME:20210924T140000
DTEND;TZID=Brazil/East;VALUE=DATE-TIME:20210924T180000
DTSTAMP;VALUE=DATE-TIME:20260419T104753Z
UID:e33334f3f0274c1dbe5593e808d66c53@www.goiania.go.leg.br
CONTACT:VEREADOR WILLIAN VELOSO
CREATED;VALUE=DATE-TIME:20210913T201233Z
LAST-MODIFIED;VALUE=DATE-TIME:20210916T181911Z
LOCATION:Sala de Reunião da Presidência
URL:https://www.goiania.go.leg.br/sala-de-imprensa/eventos/audiencia-publi
 ca-com-o-tema-acessibilidade-e-mobilidade-no-transporte-coletivo
END:VEVENT
BEGIN:VTIMEZONE
TZID:Brazil/East
X-LIC-LOCATION:Brazil/East
BEGIN:STANDARD
DTSTART;VALUE=DATE-TIME:20210220T230000
TZNAME:BRT
TZOFFSETFROM:-0200
TZOFFSETTO:-0300
END:STANDARD
END:VTIMEZONE
END:VCALENDAR
