BEGIN:VCALENDAR
VERSION:2.0
PRODID:-//Plone.org//NONSGML plone.app.event//EN
X-WR-TIMEZONE:Brazil/East
BEGIN:VEVENT
SUMMARY:AUDIÊNCIA PÚBLICA COM O OBJETIVO DE FOMENTAR E AMPLIAR O DEBATE 
 ACERCA DO PROJETO DE LEI Nº 112//21\, QUE INSTITUI O PROJETO MULTIPLICA L
 IVROS E DÁ OUTRAS PROVIDÊNCIAS.
DTSTART;TZID=Brazil/East;VALUE=DATE-TIME:20210428T140000
DTEND;TZID=Brazil/East;VALUE=DATE-TIME:20210428T170000
DTSTAMP;VALUE=DATE-TIME:20260419T105902Z
UID:f6e84e72c3bc444089109f58a6715641@www.goiania.go.leg.br
CONTACT:VEREADORA AAVA SANTIAGO
CREATED;VALUE=DATE-TIME:20210422T103649Z
LAST-MODIFIED;VALUE=DATE-TIME:20210422T103729Z
LOCATION:PLENÁRIO TRAJANO GUIMARÃES
URL:https://www.goiania.go.leg.br/sala-de-imprensa/eventos/audiencia-publi
 ca-com-o-objetivo-de-fomentar-e-ampliar-o-debate-acerca-do-projeto-de-lei-
 no-112-21-que-institui-o-projeto-multiplica-livros-e-da-outras-providencia
 s
END:VEVENT
BEGIN:VTIMEZONE
TZID:Brazil/East
X-LIC-LOCATION:Brazil/East
BEGIN:STANDARD
DTSTART;VALUE=DATE-TIME:20210220T230000
TZNAME:BRT
TZOFFSETFROM:-0200
TZOFFSETTO:-0300
END:STANDARD
END:VTIMEZONE
END:VCALENDAR
