BEGIN:VCALENDAR
VERSION:2.0
PRODID:-//Plone.org//NONSGML plone.app.event//EN
X-WR-TIMEZONE:Brazil/East
BEGIN:VEVENT
SUMMARY:AUDIÊNCIA PÚBLICA PARA TRATAR O ASSUNTO DA "DEFICIÊNCIA NA DREN
 AGEM URBANA E ADEQUAÇÃO DAS GALERIAS PLUVIAIS ÀS DEMANDAS DA CIDADE"..
DTSTART;TZID=Brazil/East;VALUE=DATE-TIME:20180510T140000
DTEND;TZID=Brazil/East;VALUE=DATE-TIME:20180510T180000
DTSTAMP;VALUE=DATE-TIME:20260420T021509Z
UID:78d0d9448c7d4447b4622d9916186796@www.goiania.go.leg.br
CONTACT:VEREADOR GUSTAVO CRUVINEL
CREATED;VALUE=DATE-TIME:20180417T133235Z
LAST-MODIFIED;VALUE=DATE-TIME:20180510T114040Z
LOCATION:AUDITÓRIO CARLOS EURICO
URL:https://www.goiania.go.leg.br/sala-de-imprensa/eventos/audiencia-publi
 ca-com-intuito-de-debater-sobre-as-galerias-pluviais-do-jardim-atlantico
END:VEVENT
BEGIN:VTIMEZONE
TZID:Brazil/East
X-LIC-LOCATION:Brazil/East
BEGIN:STANDARD
DTSTART;VALUE=DATE-TIME:20180217T230000
TZNAME:BRT
TZOFFSETFROM:-0200
TZOFFSETTO:-0300
END:STANDARD
END:VTIMEZONE
END:VCALENDAR
