BEGIN:VCALENDAR
VERSION:2.0
PRODID:-//Plone.org//NONSGML plone.app.event//EN
X-WR-TIMEZONE:Brazil/East
BEGIN:VEVENT
SUMMARY:AUDIÊNCIA PÚBLICA COM AUTORIDADES E FEIRANTES DA FEIRA HIPPIE E 
 DA FEIRA DA MADRUGADA.
DTSTART;TZID=Brazil/East;VALUE=DATE-TIME:20190318T080000
DTEND;TZID=Brazil/East;VALUE=DATE-TIME:20190318T120000
DTSTAMP;VALUE=DATE-TIME:20260419T105659Z
UID:63cfeb4f45594a4ebd5824a594e26daf@www.goiania.go.leg.br
CONTACT:VEREADOR PAULO MAGALHÃES
CREATED;VALUE=DATE-TIME:20190311T140631Z
LAST-MODIFIED;VALUE=DATE-TIME:20190311T140648Z
LOCATION:AUDITÓRIO JAIME CÂMARA
URL:https://www.goiania.go.leg.br/sala-de-imprensa/eventos/audiencia-publi
 ca-com-autoridades-e-feirantes-da-feira-hippie-e-da-feira-da-madrugada
END:VEVENT
BEGIN:VTIMEZONE
TZID:Brazil/East
X-LIC-LOCATION:Brazil/East
BEGIN:STANDARD
DTSTART;VALUE=DATE-TIME:20190216T230000
TZNAME:BRT
TZOFFSETFROM:-0200
TZOFFSETTO:-0300
END:STANDARD
END:VTIMEZONE
END:VCALENDAR
