BEGIN:VCALENDAR
VERSION:2.0
PRODID:-//Plone.org//NONSGML plone.app.event//EN
X-WR-TIMEZONE:Brazil/East
BEGIN:VEVENT
SUMMARY:AUDIÊNCIA PÚBLICA "COLETORES 10 DA COMURG".
DTSTART;TZID=Brazil/East;VALUE=DATE-TIME:20240521T140000
DTEND;TZID=Brazil/East;VALUE=DATE-TIME:20240521T170000
DTSTAMP;VALUE=DATE-TIME:20260419T094020Z
UID:d1435786938842a3806ab65a435365f0@www.goiania.go.leg.br
CONTACT:VEREADOR KLEYBE MORAIS
CREATED;VALUE=DATE-TIME:20240514T140514Z
LAST-MODIFIED;VALUE=DATE-TIME:20240514T140716Z
LOCATION:PLENÁRIO TRAJANO GUIMARÃES
URL:https://www.goiania.go.leg.br/sala-de-imprensa/eventos/audiencia-publi
 ca-coletores-10-da-comurg
END:VEVENT
BEGIN:VTIMEZONE
TZID:Brazil/East
X-LIC-LOCATION:Brazil/East
BEGIN:STANDARD
DTSTART;VALUE=DATE-TIME:20240217T230000
TZNAME:BRT
TZOFFSETFROM:-0200
TZOFFSETTO:-0300
END:STANDARD
END:VTIMEZONE
END:VCALENDAR
