BEGIN:VCALENDAR
VERSION:2.0
PRODID:-//Plone.org//NONSGML plone.app.event//EN
X-WR-TIMEZONE:Brazil/East
BEGIN:VEVENT
SUMMARY:AUDIÊNCIA PÚBLICA - CAMPANHA DE CONSCIENTIZAÇÃO DA DEPRESSÃO 
 INFANTIL E NA ADOLESCÊNCIA E PREVENÇÃO DO SUICÍDIO.
DTSTART;TZID=Brazil/East;VALUE=DATE-TIME:20221005T140000
DTEND;TZID=Brazil/East;VALUE=DATE-TIME:20221005T170000
DTSTAMP;VALUE=DATE-TIME:20260419T105339Z
UID:756c7a3bd6c64512a51d30e91304fa09@www.goiania.go.leg.br
CONTACT:VEREADOR ISAÍAS RIBEIRO
CREATED;VALUE=DATE-TIME:20220201T103851Z
LAST-MODIFIED;VALUE=DATE-TIME:20220201T103857Z
LOCATION:PLENÁRIO TRAJANO GUIMARÃES
URL:https://www.goiania.go.leg.br/sala-de-imprensa/eventos/audiencia-publi
 ca-campanha-de-conscientizacao-da-depressao-infantil-e-na-adolescencia-e-p
 revencao-do-suicidio
END:VEVENT
BEGIN:VTIMEZONE
TZID:Brazil/East
X-LIC-LOCATION:Brazil/East
BEGIN:STANDARD
DTSTART;VALUE=DATE-TIME:20220219T230000
TZNAME:BRT
TZOFFSETFROM:-0200
TZOFFSETTO:-0300
END:STANDARD
END:VTIMEZONE
END:VCALENDAR
