BEGIN:VCALENDAR
VERSION:2.0
PRODID:-//Plone.org//NONSGML plone.app.event//EN
X-WR-TIMEZONE:Brazil/East
BEGIN:VEVENT
SUMMARY:AUDIÊNCIA PÚBLICA PARA FISCALIZAÇÃO DOS SERVIÇOS PÓSTUMOS DO
  MUNICÍPIO DE GOIÂNIA
DTSTART;TZID=Brazil/East;VALUE=DATE-TIME:20250429T140000
DTEND;TZID=Brazil/East;VALUE=DATE-TIME:20250429T170000
DTSTAMP;VALUE=DATE-TIME:20260419T162524Z
UID:2d94aab9691c42428374d23c1d2fc5b6@www.goiania.go.leg.br
CONTACT:VEREADOR GEVERSON ABEL
CREATED;VALUE=DATE-TIME:20250410T120805Z
LAST-MODIFIED;VALUE=DATE-TIME:20250423T110535Z
LOCATION:PLENÁRIO TRAJANO GUIMARÃES
URL:https://www.goiania.go.leg.br/sala-de-imprensa/eventos/audiencia-publi
 ca-atuacao-da-junta-medica-municipal-de-goiania
END:VEVENT
BEGIN:VTIMEZONE
TZID:Brazil/East
X-LIC-LOCATION:Brazil/East
BEGIN:STANDARD
DTSTART;VALUE=DATE-TIME:20250215T230000
TZNAME:BRT
TZOFFSETFROM:-0200
TZOFFSETTO:-0300
END:STANDARD
END:VTIMEZONE
END:VCALENDAR
