BEGIN:VCALENDAR
VERSION:2.0
PRODID:-//Plone.org//NONSGML plone.app.event//EN
X-WR-TIMEZONE:Brazil/East
BEGIN:VEVENT
SUMMARY:AUDIÊNCIA PÚBLICA "APROVAÇÃO DA PEC 66/2023 E SUAS CONSEQUÊNC
 IAS PARA O SERVIÇÕ PÚBLICO".
DTSTART;TZID=Brazil/East;VALUE=DATE-TIME:20241202T130000
DTEND;TZID=Brazil/East;VALUE=DATE-TIME:20241202T180000
DTSTAMP;VALUE=DATE-TIME:20260421T073023Z
UID:534046dfb80e498fbd2cc4e86d77d9ed@www.goiania.go.leg.br
CONTACT:VEREADORA KATIA
CREATED;VALUE=DATE-TIME:20241113T121825Z
LAST-MODIFIED;VALUE=DATE-TIME:20241113T121929Z
LOCATION:PLENÁRIO TRAJANO GUIMARÃES
URL:https://www.goiania.go.leg.br/sala-de-imprensa/eventos/audiencia-publi
 ca-aprovacao-da-pec-66-2023-e-suas-consequencias-para-o-servico-publico
END:VEVENT
BEGIN:VTIMEZONE
TZID:Brazil/East
X-LIC-LOCATION:Brazil/East
BEGIN:DAYLIGHT
DTSTART;VALUE=DATE-TIME:20241020T010000
TZNAME:BRST
TZOFFSETFROM:-0300
TZOFFSETTO:-0200
END:DAYLIGHT
END:VTIMEZONE
END:VCALENDAR
