BEGIN:VCALENDAR
VERSION:2.0
PRODID:-//Plone.org//NONSGML plone.app.event//EN
X-WR-TIMEZONE:Brazil/East
BEGIN:VEVENT
SUMMARY:AUDIÊNCIA PÚBLICA "ALUSIVO A MARCHA DAS MULHERES NEGRAS POR REPA
 RAÇÃO EM BEM VIVER".
DTSTART;TZID=Brazil/East;VALUE=DATE-TIME:20251031T130000
DTEND;TZID=Brazil/East;VALUE=DATE-TIME:20251031T160000
DTSTAMP;VALUE=DATE-TIME:20260419T094318Z
UID:d02e4494e7a14af4ad6ff69bb57deb3a@www.goiania.go.leg.br
CONTACT:VEREADORA AAVA SANTIAGO
CREATED;VALUE=DATE-TIME:20251014T120848Z
LAST-MODIFIED;VALUE=DATE-TIME:20251014T121322Z
LOCATION:PLENÁRIO TRAJANO GUIMARÃES
URL:https://www.goiania.go.leg.br/sala-de-imprensa/eventos/audiencia-publi
 ca-alusivo-a-marcha-das-mulheres-negras-por-reparacao-em-berm-viver
END:VEVENT
BEGIN:VTIMEZONE
TZID:Brazil/East
X-LIC-LOCATION:Brazil/East
BEGIN:DAYLIGHT
DTSTART;VALUE=DATE-TIME:20251019T010000
TZNAME:BRST
TZOFFSETFROM:-0300
TZOFFSETTO:-0200
END:DAYLIGHT
END:VTIMEZONE
END:VCALENDAR
