BEGIN:VCALENDAR
VERSION:2.0
PRODID:-//Plone.org//NONSGML plone.app.event//EN
X-WR-TIMEZONE:Brazil/East
BEGIN:VEVENT
SUMMARY:AUDIÊNCIA PÚBLICA "A VIOLÊNCIA CINTRA OS (AS) PROFISSIONAIS DA 
 SAÚDE NO MUNICÍPIO DE GOIÂNIA".
DTSTART;TZID=Brazil/East;VALUE=DATE-TIME:20250903T130000
DTEND;TZID=Brazil/East;VALUE=DATE-TIME:20250903T170000
DTSTAMP;VALUE=DATE-TIME:20260419T094319Z
UID:0e32618df997493fae2b04d25718d01e@www.goiania.go.leg.br
CONTACT:VEREADORA KATIA
CREATED;VALUE=DATE-TIME:20250814T144322Z
LAST-MODIFIED;VALUE=DATE-TIME:20250814T153330Z
LOCATION:PLENÁRIO TRAJANO GUIMARÃES
URL:https://www.goiania.go.leg.br/sala-de-imprensa/eventos/audiencia-publi
 ca-a-violencia-cintra-os-aas-profissionais-da-saude-no-municipio-de-goiani
 a
END:VEVENT
BEGIN:VTIMEZONE
TZID:Brazil/East
X-LIC-LOCATION:Brazil/East
BEGIN:STANDARD
DTSTART;VALUE=DATE-TIME:20250215T230000
TZNAME:BRT
TZOFFSETFROM:-0200
TZOFFSETTO:-0300
END:STANDARD
END:VTIMEZONE
END:VCALENDAR
