BEGIN:VCALENDAR
VERSION:2.0
PRODID:-//Plone.org//NONSGML plone.app.event//EN
X-WR-TIMEZONE:Brazil/East
BEGIN:VEVENT
SUMMARY:AUDIÊNCIA PÚBLICA A RESPEITO DOS RESÍDUOS SÓLIDOS.
DTSTART;TZID=Brazil/East;VALUE=DATE-TIME:20250212T140000
DTEND;TZID=Brazil/East;VALUE=DATE-TIME:20250212T180000
DTSTAMP;VALUE=DATE-TIME:20260419T104630Z
UID:795e099eb0c64d49aab776da64d8d1b3@www.goiania.go.leg.br
CONTACT:VEREADOR ANSELMO PEREIRA
CREATED;VALUE=DATE-TIME:20250212T115209Z
LAST-MODIFIED;VALUE=DATE-TIME:20250212T115305Z
LOCATION:SALA DE REUNIÃO DAS COMISSÕES
URL:https://www.goiania.go.leg.br/sala-de-imprensa/eventos/audiencia-publi
 ca-a-respeito-dos-residuos-solidos
END:VEVENT
BEGIN:VTIMEZONE
TZID:Brazil/East
X-LIC-LOCATION:Brazil/East
BEGIN:DAYLIGHT
DTSTART;VALUE=DATE-TIME:20241020T010000
TZNAME:BRST
TZOFFSETFROM:-0300
TZOFFSETTO:-0200
END:DAYLIGHT
END:VTIMEZONE
END:VCALENDAR
