BEGIN:VCALENDAR
VERSION:2.0
PRODID:-//Plone.org//NONSGML plone.app.event//EN
X-WR-TIMEZONE:Brazil/East
BEGIN:VEVENT
SUMMARY:AUDIÊNCIA PÚBLICA A FIM DE DEBATER O USO DO TRATAMENTO PROFILÁT
 ICO CONTRA O COVID-19.
DTSTART;TZID=Brazil/East;VALUE=DATE-TIME:20210222T100000
DTEND;TZID=Brazil/East;VALUE=DATE-TIME:20210222T120000
DTSTAMP;VALUE=DATE-TIME:20260421T054332Z
UID:29fa1d40ea5448978b660e1e0bcde33d@www.goiania.go.leg.br
CONTACT:VEREADORA GABRIELA RODART
CREATED;VALUE=DATE-TIME:20210218T103634Z
LAST-MODIFIED;VALUE=DATE-TIME:20210218T103733Z
LOCATION:PLENÁRIO TRAJANO GUIMARÃES
URL:https://www.goiania.go.leg.br/sala-de-imprensa/eventos/audiencia-publi
 ca-a-fim-de-debater-o-uso-do-tratamento-profilatico-contra-o-covid-19
END:VEVENT
BEGIN:VTIMEZONE
TZID:Brazil/East
X-LIC-LOCATION:Brazil/East
BEGIN:STANDARD
DTSTART;VALUE=DATE-TIME:20210220T230000
TZNAME:BRT
TZOFFSETFROM:-0200
TZOFFSETTO:-0300
END:STANDARD
END:VTIMEZONE
END:VCALENDAR
