BEGIN:VCALENDAR
VERSION:2.0
PRODID:-//Plone.org//NONSGML plone.app.event//EN
X-WR-TIMEZONE:Brazil/East
BEGIN:VEVENT
SUMMARY:Audiência Publica- VEREADOR ANSELMO PEREIRA sobre a Vedação de 
 Instalação de Bancas Comerciais
DTSTART;TZID=Brazil/East;VALUE=DATE-TIME:20160608T150000
DTEND;TZID=Brazil/East;VALUE=DATE-TIME:20160608T170000
DTSTAMP;VALUE=DATE-TIME:20260424T162826Z
UID:d450e53af7e54de098a01c983b9b2341@www.goiania.go.leg.br
CREATED;VALUE=DATE-TIME:20171208T111312Z
DESCRIPTION:Discutira a Lei n.059 de 01/12/1997(DOM 01/12/1997)\,sobre a v
 edação da instalação de bancas comerciais de qualquer natureza\,passei
 os públicos fronteiriços e estabelecimento de ensino publico. e particul
 ares.
LAST-MODIFIED;VALUE=DATE-TIME:20171208T112921Z
LOCATION:SALA DE REUNIÕES DA PRESIDENCIA
URL:https://www.goiania.go.leg.br/sala-de-imprensa/eventos/audiencia-publi
 ca-ANSELMO%20PEREIRA_-sobre-a-vedacao-de-instalacao-de-bancas-comerciais
END:VEVENT
BEGIN:VTIMEZONE
TZID:Brazil/East
X-LIC-LOCATION:Brazil/East
BEGIN:STANDARD
DTSTART;VALUE=DATE-TIME:20160220T230000
TZNAME:BRT
TZOFFSETFROM:-0200
TZOFFSETTO:-0300
END:STANDARD
END:VTIMEZONE
END:VCALENDAR
